BEGIN:VCALENDAR
VERSION:2.0
PRODID:-//YourSite//YourPlugin//EN
CALSCALE:GREGORIAN
METHOD:PUBLISH
BEGIN:VEVENT
UID:69e9ea8f68f80@yoursite.com
DTSTAMP:20260423T094655Z
DTSTART:20250726T070000Z
DTEND:20250726T160000Z
SUMMARY:📅 KLW RIVIERA
DESCRIPTION:
LOCATION:
END:VEVENT
END:VCALENDAR